BEGIN:VCALENDAR
VERSION:2.0
PRODID:-//Litorale - ECPv6.15.20//NONSGML v1.0//EN
CALSCALE:GREGORIAN
METHOD:PUBLISH
X-WR-CALNAME:Litorale
X-ORIGINAL-URL:https://litorale.org
X-WR-CALDESC:Eventi per Litorale
REFRESH-INTERVAL;VALUE=DURATION:PT1H
X-Robots-Tag:noindex
X-PUBLISHED-TTL:PT1H
BEGIN:VTIMEZONE
TZID:Europe/Rome
BEGIN:DAYLIGHT
TZOFFSETFROM:+0100
TZOFFSETTO:+0200
TZNAME:CEST
DTSTART:20240331T010000
END:DAYLIGHT
BEGIN:STANDARD
TZOFFSETFROM:+0200
TZOFFSETTO:+0100
TZNAME:CET
DTSTART:20241027T010000
END:STANDARD
BEGIN:DAYLIGHT
TZOFFSETFROM:+0100
TZOFFSETTO:+0200
TZNAME:CEST
DTSTART:20250330T010000
END:DAYLIGHT
BEGIN:STANDARD
TZOFFSETFROM:+0200
TZOFFSETTO:+0100
TZNAME:CET
DTSTART:20251026T010000
END:STANDARD
BEGIN:DAYLIGHT
TZOFFSETFROM:+0100
TZOFFSETTO:+0200
TZNAME:CEST
DTSTART:20260329T010000
END:DAYLIGHT
BEGIN:STANDARD
TZOFFSETFROM:+0200
TZOFFSETTO:+0100
TZNAME:CET
DTSTART:20261025T010000
END:STANDARD
BEGIN:DAYLIGHT
TZOFFSETFROM:+0100
TZOFFSETTO:+0200
TZNAME:CEST
DTSTART:20270328T010000
END:DAYLIGHT
BEGIN:STANDARD
TZOFFSETFROM:+0200
TZOFFSETTO:+0100
TZNAME:CET
DTSTART:20271031T010000
END:STANDARD
END:VTIMEZONE
BEGIN:VEVENT
DTSTART;TZID=Europe/Rome:20251028T210000
DTEND;TZID=Europe/Rome:20260512T220000
DTSTAMP:20260424T141449
CREATED:20251013T141315Z
LAST-MODIFIED:20260226T080714Z
UID:7548-1761685200-1778623200@litorale.org
SUMMARY:L’Orco e l’Istmo. La psiche estesa in letteratura e in psicoanalisi
DESCRIPTION:Riceviamo e pubblichiamo con piacere la notizia di questo evento \n\n\nPrego\, si accomodi\n\n\nWebinar di formazione dell’Associazione Metandro www.metandro.com A cura di Augusto Iossa Fasano e Francesca Borselli \n\n\n\nOnline\, dal 28 ottobre 2025 al 12 maggio 2026. 8 appuntamenti di martedì dalle ore 21.00 alle 22.00 \n\n\n\n\n\n\n\n\nPresentazione\n\n\n\nProgramma\n\n\n\nInformazioni e iscrizioni\n\n\n\nBibliografia\n\n\n\n30 nozioni e concetti\n\n\n\n\n\n\n\n\n\n\nPRESENTAZIONE\n\n\n\nUn Webinar che indaga le estensioni della psiche nello spazio a partire da 30 nozioni e concetti per la pratica analitica terapeutica e formativa. \n\n\n\n“La psiche è estesa\, di ciò non sa nulla” \n\n\n\nL’enigmatica comunicazione di Sigmund Freud alla figlia Anna\, poco prima della morte\, apre un nuovo orizzonte sul rapporto del soggetto con le rappresentazioni di: corpo\, stanza (setting)\, città\, pianeta nello spazio esterno. Incrociando aree\, arti\, materie e discipline\, i margini tra il sapere e il non sapere fluttuano e si animano\, qualcosa finalmente si scorge. \n\n\n\nIl titolo del webinar\, “L’Orco e l’Istmo”\, racchiude due figure idonee a esplorare la psiche umana.La prima è l’Orco. Nelle fiabe e nella cultura antica ciclopi e titani sono creature minacciose e solitarie. La cultura moderna mostra Shrek sotto una luce diversa: come un gigante bonario e vulnerabile. L’Orco diventa così simbolo di una parte di noi che appare spaventosa e ingestibile\, ma le sue pulsioni si possono imbrigliare. \n\n\n\nIl racconto di Sherazade va avanti allo sfinimento. \n\n\n\nLa seconda metafora è l’Istmo\, uno stretto passaggio ci collega al tema del trauma\, evocato dall’eco letteraria di Horcynus Orca. Dopo un trauma\, la sfida è il ritorno a una “normalità”. La pressione sociale ci espone a correnti travolgenti\, e l’Istmo rappresenta proprio un passaggio obbligato e rischioso tra il nostro mondo interiore e le richieste del mondo esterno. Attraversarlo comporta il confrontarsi con le forze del trauma\, delle relazioni\, del linguaggio e delle capacità di disegnare o interpretare le mappe. \n\n\n\nIn questo scenario\, la psicoanalisi e la letteratura sono strumenti di navigazione essenziali per interpretare le correnti e non perdere la rotta. Durante il webinar\, i nostri relatori condurranno\, ciascuno con la propria competenza\, un tratto di questo percorso. \n\n\n\nIl messaggio finale è che l’Orco e l’Istmo rinviano alle trasformazioni perturbanti e della navigazione tra i passaggi della vita. \n\n\n\n“L’Orco e l’Istmo: La psiche estesa in letteratura e in psicoanalisi”. Un titolo che è una mappa per il viaggio che intraprenderemo\, partendo da una celebre e folgorante intuizione di Freud: “La psiche è estesa\, di ciò non sa nulla”. \n\n\n\nQuesta frase ci apre al territorio dell’Orco: la figura della nostra psiche straripante\, che non si limita alla mente ma si espande nel corpo\, negli oggetti\, negli spazi che abitiamo. L’Orco è l’ombra del trauma\, la vastità di un dolore apparentemente ingestibile che attende di trovare una barriera\, una forma e una parola. \n\n\n\nMa come si attraversa questa immensità interiore? \n\n\n\nAprendo la carta geografica\, impostando il navigatore GPS\, persino riferendosi alla scena del crimine o nell’osservare una tavola anatomica o seguire la descrizione di un’autopsia. \n\n\n\nQui entra in gioco l’Istmo: il passaggio stretto\, fragile e necessario il cui nome è Angoscia\, come ci suggeriscono Papparo e Valery. L’istmo è il punto di massima tensione dove mondo interno ed esterno si toccano. È il luogo dello sguardo dell’Altro\, un confine liminare dove nasce l’imperativo della cura: dare parole e contenimento al dolore. \n\n\n\nUn programma che è stato pensato giusto per navigare in un’ estensione dell’apparato psichico detto geografia\, a fianco delle biopolitiche e delle geopolitiche. \n\n\n\nI relatori ci guideranno attraverso le diverse manifestazioni dell’Orco e i differenti passaggi dell’Istmo. Esploreremo come la letteratura ha saputo rappresentare il trauma\, come la clinica si confronta con il corpo e lo sguardo\, e come lo spazio del reduce o del paziente diventi il teatro di questa complessa relazione tra il dentro e il fuori. \n\n\n\nPer orientarci in questo viaggio complesso\, ci serviremo di due strumenti fondamentali. Da un lato\, una solida bibliografia che ci permetterà di avere un quadro conoscitivo più ampio; dall’altro\, le 30 nozioni proposte da Augusto Iossa \n\n\n\nFasano\, una vera e propria cassetta degli attrezzi teorica e clinica per leggere il nostro presente. \n\n\n\nQuesto webinar è un invito ad imparare\, a trasformare ciò che ci spaventa in pensiero\, e infine\, in cura. \n\n\n\nGrazie e buon viaggio a tutti noi. \n\n\n\n\n\nPROGRAMMA\n\n\n\n28 ottobre 2025 Augusto Iossa FasanoLe tre componenti del soggetto: il lavoro della figurazione nel trauma e nella cura estesa \n\n\n\n25 novembre 2025 Gian Battista RicciIl letto di Procuste. L’anatomia come scienza della misurazione del sé \n\n\n\n9 dicembre 2025 Giancarlo AlfanoSulla linea di due mari. Distanza e prossimità del trauma in Horcynus Orca. \n\n\n\n20 Gennaio 2026 Felice Ciro Papparo“…per andare dal dentro al fuori bisogna superare lo stretto passaggio il cui nome è Angoscia” \n\n\n\n24 Febbraio 2026Tolja Djokovich e Aura GhezziLa giovane Sherazade. Appunti per una relazione pedagogica teatraleIntroduce Francesca Borselli. \n\n\n\n17 Marzo 2026 Mario BottoneClérambault\, psichiatra e fotografo tra la luce e lo sguardo \n\n\n\n14 Aprile 2026 Salvatore PrinziLo spazio del reduce. Filosofia e psicoanalisi davanti alla guerra \n\n\n\n12 maggio 2026 Augusto Iossa FasanoLo spazio e la rappresentazione della protesi: I limiti del soggetto tra inibizione\, pensiero e azione \n\n\n\n\n\n\n\nINFORMAZIONI E ISCRIZIONI\n\n\n\nPer informazioni Cell. 3355629507 \n\n\n\nIscrizione al webinar + Socio Metandro 2026 100€ invece di 160€ \n\n\n\nPer iscrizioni clicca il pulsante sottostante \n\n\n\n\nISCRIVITI\n\n\n\n\n\n\n\n\n\n\n\n\nBIBLIOGRAFIA\n\n\n\n\nIossa Fasano A.\, Psicoanalisi per la medicina tecnologica\, Papyrus communication\, 2025\n\n\n\nD’Arrigo\, Horcynus Orca\, BUR\, 2025\n\n\n\nFreud\, Inibizione\, sintomo e angoscia\, (1925)\, Boringhieri e Newton Compton\n\n\n\nFinzi\, L’analista consumato\, Moretti &Vitali\, 2023\n\n\n\nFinzi\, Nevrosi di guerra in tempo di pace\, Luca Sossella ed.\, 2018\n\n\n\nAlfano \, Paesaggi mappe tracciati\, Liguori\, 2010\n\n\n\nAlfano G.\, Il lido più lontano. Horcynus Orca e gli effetti della guerra\, Luca Sossella \, 2017\n\n\n\nPapparo C.\, Incanto e misura. Per una lettura di Georges Bataille\, ESI\, 1997\n\n\n\nBataille\, L’al di là del serio e altri saggi\, Guida\, 2000\n\n\n\nBataille\, La pura felicità. Rivolta poesia sovranità\, Moretti & Vitali\, 2025\n\n\n\nRicci B.\, Rosati E.\, La mirabolante avventura dell’anatomia. Dalle imbalsamazioni egizie alle moderne sale autoptiche\, Dedalo\, 2025\n\n\n\nSpinato\, La rappresentazione anatomica dell’immagine del corpo umano\, Anemos\, 2013\n\n\n\nBottone M. (a cura di)\, Gaëtan De Clérambault automatismo mentale. Ricordi di un medico operato di cataratta\, Alpes\, 2025\n\n\n\nMerleau-Ponty\, L’unione dell’anima e del corpo in Malebranche\, Biran e Bergson a cura di Prinzi S.\, Orthotes\, 2017\n\n\n\nDjokovich\, Lucia camminava sola\, Raiplaysound 2024\n\n\n\n\n\n\n30 NOZIONI E CONCETTI per la PRATICA ANALITICA TERAPEUTICA E FORMATIVA\n\n\n\nAUGUSTO IOSSA FASANOwww.augustoiossafasano.it www.metandro.com \n\n\n\n\nLe 4 età della vita: Infanzia\, Adolescenza\, Età di mezzo (maturità: 45-55 anni)\, Senilità. Dimensioni simultanee e non fasi Il Gender come condizione funzionale e iniziale rappresentazione del corpo; la tradizione strutturale della psicoanalisi.\n\n\n\nCorpo + Protesi = Apparato psichico (Non c’è mente senza protesi\, vedi punto 7).\n\n\n\nL’APPARATO PSICHICO e la teoria dei due inconsci: l’INC e l’ES (vedi punto 23).\n\n\n\nTRANSFERT (identificazione\, negazione\, diniego\, rimozione\, sublimazione\, formazione reattiva).\n\n\n\nSOGNO. La voce e l’ingegno fonetico del Sogno (voce e colore\, suono e linea\, teatro/musica/danza/gesto e forma/Bildung).\n\n\n\nPULSIONE e RIPETIZIONE.\n\nPulsioni di vita\, come lavorano;\n\n\n\nPulsioni di morte: come e quando prendono il\n\n\n\n\n\nModello Corpo-Protesi-Mente: L’oggetto nella realtà esterna è fondamentale rispetto ai “processi di soggettivazione” e al “Mind-Body problem”\, oggi ridefinito come Body-Prosthesis-Mind Model (La protesi precede il La mente nasce dal riconoscimento della struttura inscindibilmente connessa al corpo protesizzato ed al mondo esterno).\n\n\n\nLa nozione di Protesi e l’Hilflogsickeit (pensiero protesico e regolazione analitica).\n\n\n\nSpazio\, Rappresentazione del Corpo (protesizzato) e Limiti del raggio d’azione del soggetto in rapporto all’oggetto (tecnico ed estetico).\n\n\n\nLa barriera nello spazio del Mondo esterno e la credenza accanto all’intelligenza. Barriera (molle\, permeabile\, porosa\, critica) e\n\n\n\nIdentità e disagio nella civiltà (Questione della Morte e della Guerra).\n\n\n\nNevrosi > Psicosi\, Perversione (Isteria\, paranoia e inibizione). Nevrosi di guerra in tempo di pace (estensione della teoria di Sergio Finzi).\n\n\n\nOralità e madre\, vista/visione e padre.\n\n\n\nGP Godimento paterno: Padre primordiale\, Padre anale\, Nomi del\n\n\n\nTSI\, errore e La funzione dell’errore e della credenza nelle Teorie Sessuali Infantili è la formula curativa rispetto agli effetti psicotizzanti dell’essere figli del GP.\n\n\n\nFR. Familien Roman: romanzo familiare dei\n\n\n\nFatherfull and fatherless. Pieno/a di padre\, vuoto/a di padre (vale a prescindere dal genere binario).\n\n\n\nTrauma Ripetizione Transfert (vedi punto 4).\n\n\n\nPubertà\, puerperio e menopausa (I tre tagli della vita con cerniera: 5 anni\, 12 anni e 50 anni).\n\n\n\nLdF: Luogo della Fobia (a 4-5 anni primo luogo di strutturazione e rappresentazione esterna dell’apparato psichico). Il Bar (Bar-Mitzvah) e l’Atelier come secondo luogo di strutturazione del soggetto tra i 12 e i 50 anni.\n\n\n\nParadigma Bionico Protesico\, PBP. Il soggetto nasce dal disegno della protesi. In seguito all’intrusione del device nel corpo si creano nuovi equilibri. Psicoanalisi e supervisione secondo il PBP tengono conto del ruolo delle protesi\n\n\n\nAffetto e Rappresentazione: amore e morte\, vita e\n\n\n\nCondizione Cyborg e mutazione bionica\n\n\n\nQuincunce e giardino di Ciro.\n\n\n\nMedicina Estesa\, la psicoanalisi dentro e fuori dal setting: welfare e ambito\n\n\n\nAPNEID: Apparato psichico\, Nervoso\, Endocrino\, Immunitario\,\n\n\n\nGruppi GSI e Balint.\n\n\n\nRespiro e pensiero.\n\n\n\nDipendenze: Gioco\, Tabagismo e\n\n\n\nTra sorpresa e attesa: la psicoanalisi come strumento di pace nel sociale e in risposta al conflitto interpersonale.
URL:https://litorale.org/evento/lorco-e-listmo-la-psiche-estesa-in-letteratura-e-in-psicoanalisi/
CATEGORIES:Eventi consigliati
ATTACH;FMTTYPE=image/jpeg:https://litorale.org/wp-content/uploads/2025/10/litorale-logo-associazione-metandro.jpg
END:VEVENT
BEGIN:VEVENT
DTSTART;TZID=Europe/Rome:20251115T110000
DTEND;TZID=Europe/Rome:20261129T123000
DTSTAMP:20260424T141449
CREATED:20250714T200256Z
LAST-MODIFIED:20260226T080654Z
UID:7032-1763204400-1795955400@litorale.org
SUMMARY:Progetto di Formazione in Psicoanalisi - Attività 2025/26
DESCRIPTION:Progetto per la Formazione in Psicoanalisi\nAttività 2025/26 				\n																														\n		\n15 NOVEMBRE 2025\, BOLOGNAc/o Hotel NH Bologna de la Gare\, Piazza XX Settembre 2 \n11.00-13.00 LABORATORIO PERMANENTE DI CLINICA PSICOANALITICALa seduta\, quella giusta.I momenti decisivi in una cura.  \n14.00-16.00 LABORATORIO DI RICERCA IN PSICOANALISILa seduta online. Implicazioni per la tecnica e la teoria. \n7 FEBBRAIO 2026Online su piattaforma Zoom \n10.00-12-00LABORATORIO DI STUDIO DEI CONCETTI FONDAMENTALI DELLA PSICOANALISIEdipo. Storia\, evoluzione e possibili declinazioni. \n13-14 GIUGNO 2026\, GENOVASala delle donne di Palazzo Ducale\, Piazza Raffaele de Ferrari\n \n13 giugno 202610.00-13.00 \nLABORATORIO PERMANENTE DI CLINICA PSICOANALITICALa seduta\, quella giusta. I momenti decisivi in una cura. \n  \n13 giugno 202615.00-18.00 \nLABORATORIO DI RICERCA IN PSICOANALISILa seduta online. Implicazioni per la tecnica e la teoria. \n  \n14 giugno 20269.30-12.30 \nLABORATORIO DI STUDIO DEI CONCETTI FONDAMENTALI DELLA PSICOANALISIEdipo. Storia\, evoluzione e possibili declinazioni. \n28-29 NOVEMBRE 2026\, PERUGIALuogo da definire \n28 novembre 202610.00-13.00 \nLABORATORIO PERMANENTE DI CLINICA PSICOANALITICALa seduta\, quella giusta. I momenti decisivi in una cura. \n  \n28 novembre 202615.00-18.00 \nLABORATORIO DI RICERCA IN PSICOANALISILa seduta online. Implicazioni per la tecnica e la teoria. \n  \n29 novembre 20269.30-12.30 \nLABORATORIO DI STUDIO DEI CONCETTI FONDAMENTALI DELLA PSICOANALISIEdipo. Storia\, evoluzione e possibili declinazioni. \nINFO \nColoro che desiderano partecipare alle attività del PFP dovranno richiederlo tramite email a info@litorale.org specificando la propria formazione. Seguiranno due colloqui di ammissione e\, una volta accolta la domanda\, dovranno corrispondere una quota associativa annuale. \nI membri (coloro che hanno già concluso il percorso di specializzazione in psicoterapia o psichiatria)\, che potranno partecipare alle attività teoriche e cliniche del PFP\, dovranno corrispondere una quota annuale di 200 Euro e diventeranno soci sostenitori di Litorale. \nI partecipanti clinici (laureati e abilitati alla professione di psicologo o medico)\, che potranno partecipare alle attività teoriche e cliniche del PFP\, dovranno corrispondere una quota annuale di 120 Euro. \nI partecipanti non clinici (sociologi\, letterati\, filosofi o persone formate in discipline affini)\, che potranno partecipare al Laboratorio di Studio dei concetti fondamentali della Psicoanalisi\, dovranno corrispondere una quota annuale di quota di 70 Euro. \nI partecipanti clinici e non clinici che desiderano diventare soci sostenitori di Litorale devono farne richiesta tramite mail a info@litorale.org. La Commissione Scientifica si riserva la facoltà di decidere sull’ammissione. Chi siamo Il progetto PFP Scarica la locandina (PDF)		\n					I LABORATORI DEL PFP 				\n																\n															\n					Laboratorio Permanente di Clinica Psicoanalitica				\n		scopri di più 		\n																\n															\n					Laboratorio di Ricerca in Psicoanalisi				\n		scopri di più 		\n																\n															\n					Laboratorio di Studio dei concetti fondamentali della Psicoanalisi 				\n		scopri di più
URL:https://litorale.org/evento/progetto-di-formazione-in-psicoanalisi-attivita-2025-26/
CATEGORIES:Eventi Associazione
ATTACH;FMTTYPE=image/jpeg:https://litorale.org/wp-content/uploads/2025/07/pfp-locandina-scelta.jpg
END:VEVENT
BEGIN:VEVENT
DTSTART;TZID=Europe/Rome:20260328T090000
DTEND;TZID=Europe/Rome:20260530T130000
DTSTAMP:20260424T141449
CREATED:20260226T013745Z
LAST-MODIFIED:20260228T155528Z
UID:8273-1774688400-1780146000@litorale.org
SUMMARY:Seminario di Formazione:Il dolore psichico
DESCRIPTION:Seminario di Formazione:Il dolore psichico\n\n\n\nL’Istituto Lacaniano di Psicoterapia organizza quattro incontri seminariali dedicati allo studio del dolore psichico. In ogni incontro\, due relazioni introdurranno i partecipanti a una conversazione tematica. Seguirà un dibattito. \n\n\n\nAppuntamenti\n\n\n\nSABATO 28 MARZO 2026 ore 9:00 – 13:00PAOLO GODANI: Genesi e logica del dolore psichico.FRANCO LOLLI: Metapsicologia del dolore psichico \n\n\n\nSABATO 18 APRILE 2026 ore 9:00 – 13:00ADRIANO VOLTOLIN: Permettersi la sofferenzaFRANCO LOLLI: Fenomenologia del dolore psichico \n\n\n\nSABATO 9 MAGGIO 2026 ore 9:00 – 13:00ANTONELLO CORREALE: Il dolore e la solitudineFRANCO LOLLI: Sul dolore di esistere e il dolore di amare \n\n\n\nSABATO 30 MAGGIO 2026 ore 9:00 – 13:00ANTONIO TRICOMI: «Il brandello organico di una creatura arresa». Descrizioni letterarie del dolore psichicoFRANCO LOLLI: Clinica differenziale del dolore psichico \n\n\n\n\n\n\n\n\nSCARICA LA LOCANDINA (PDF)\n\n\n\n\n\n\n\nISCRIZIONE\n\n\n\n\n\n\n\n\n\n\n\n\nDocenti\n\n\n\nANTONELLO CORREALE è psichiatra a Roma. Membro ordinario SPI. È stato primario del Centro di Salute Mentale ASL Roma B e professore all’Università di Urbino nel corso sulle dipendenze. Autore di libri tra i quali: Il campo istituzionale\, Area traumatica e campo istituzionale\, Il soggetto nascosto\, La potenza delle immagini.PAOLO GODANI insegna filosofia all’Università di Macerata. Ha scritto fra l’altro Sul Piacere che manca (DeriveApprodi 2019)\, Traits. Une Métaphysique du singulier (PUF 2020)\, Il corpo e il cosmo (Neri Pozza 2021)\, Melanconia e fine del mondo (Gramma-Feltrinelli 2025).FRANCO LOLLI è psicoanalista nelle Marche\, socio fondatore di Litorale (Ricerca\, cultura e formazione in Psicoanalisi) di cui è stato presidente fino al 2025 e direttore scientifico dell’ILP di Grottammare. Supervisore in enti pubblici e privati\, collabora con riviste specializzate ed è autore di saggi psicoanalitici\, l’ultimo dei quali è Ora basta. La guarigione in psicoanalisi (Mimesis).ANTONIO TRICOMI è saggista e poeta. Insegna Discipline letterarie in un Istituto di istruzione secondaria di II grado. I suoi libri più recenti sono la raccolta di saggi Macerie borghesi. Genealogie letterarie del presente (Rogas\, Roma 2023) e il volume di versi e prose Non già ieri\, non ancora domani (Marcos y Marcos\, Milano 2024).ADRIANO VOLTOLIN è psicoanalista a Milano\, membro del direttivo della Società di Psicoanalisi Critica e direttore della collana “Quaderni di psicoanalisi critica” (Mimesis). Ha insegnato all’Università Statale e all’Università della Bicocca ed ha diretto per ventitré anni l’Istituto di Psicoterapia Psicoanalitica di Sesto San Giovanni. Tra le sue ultime pubblicazioni Psicoanalisi come critica e Lo spazio\, la città e la mente (Mimesis). \n\n\n\n\n\nInformazioni e iscrizioni\n\n\n\nPer iscriversi è necessario inviare una richiesta all’indirizzo mail info@istitutoilp.it\, specificando in quale modalità si desidera partecipare al seminario. A coloro che ne faranno richiesta\, verrà inviato il link di Zoom nella giornata che precede l’incontro. Il costo di iscrizione è di 100\,00 euro. Per studenti in medicina e in psicologia\, il costo è di 60\,00 euro.ESENTE IVA ai sensi art. 10 DPR: n. 633/72. \n\n\n\nDate e orari\n\n\n\nsabato 28 marzo 2026 ore 9:00 – 13:00sabato 18 aprile 2026 ore 9:00 – 13:00sabato 9 maggio 2026 ore 9:00 – 13:00sabato 30 maggio 2026 ore 9:00 – 13:00 \n\n\n\nLuogo\n\n\n\nSala Proiezioni Ospitale – Casa delle Associazioni\, Via Palmaroli 13/19\, Grottammare (AP) (Vecchio Incasato – Paese Alto).È prevista la possibilità di collegamento online su piattaforma Zoom.
URL:https://litorale.org/evento/seminario-di-formazione-il-dolore-psichico/
CATEGORIES:Eventi Associazione
ATTACH;FMTTYPE=application/pdf:https://litorale.org/wp-content/uploads/2026/02/ilp-seminario-marzo-maggio-2026-web.pdf
END:VEVENT
BEGIN:VEVENT
DTSTART;TZID=Europe/Rome:20260507T180000
DTEND;TZID=Europe/Rome:20260521T200000
DTSTAMP:20260424T141449
CREATED:20260420T214847Z
LAST-MODIFIED:20260423T194858Z
UID:8489-1778176800-1779393600@litorale.org
SUMMARY:Prego\, si accomodi
DESCRIPTION:Prego\, si accomodi\n\n\nIntroduzione alla clinica psicoanalitica secondo l’approccio di Sigmund Freud e Jacques Lacan\n\n\n\nGiovedì 7 Maggio 2026\, ore 18.00-20.00Giovedì 21 Maggio 2026\, ore 18.00-20.00Urbino (Sala Castellani\, Palazzo del Collegio Raffaello) \n\n\n\n“Prego\, si accomodi” è un ciclo di incontri organizzato da Litorale -cultura\, ricerca e formazione in psicoanalisi- per “entrare” nella stanza d’analisi: i partecipanti potranno meglio comprendere la domanda\, il sintomo\, la sofferenza dei pazienti e soprattutto le parole\, i silenzi e la tecnica psicoanalitica. Cosa si chiede al paziente? Su cosa si focalizza l’ascolto dell’analista? Come si interviene? La clinica sarà presentata all’interno dell’impianto teorico che sostiene la conduzione della cura psicoanalitica. \n\n\n\nAppuntamenti\n\n\n\nGIOVEDÌ 7 MAGGIO 2026\nELOISA ALESIANI\nSe l’ansia è un segnale: presentazione di un caso \n\n\n\nGIOVEDÌ 21 MAGGIO 2026\nFRANCO LOLLI\nL’ansia e le possibilità di cura psicoterapica \n\n\n\n\n\n\n\n\n\n\n\n\n\n\n\nRelatori\n\n\n\nELOISA ALESIANIPsicologa Psicoterapeuta\, Socio Litorale\, Membro PFP\, Direttore di sede ILP – Istituto Lacaniano di Psicoterapia\, San Benedetto del Tronto (AP)FRANCO LOLLIPsicoanalista\, Membro Espace Analytique\, Socio Litorale\, Membro PFP\, Direttore scientifico ILP – Istituto Lacaniano di Psicoterapia\, Grottammare (AP) \n\n\n\n\n\nInformazioni\n\n\n\nGli incontri si terranno in presenza dalle ore 18.00 alle 20.00 presso la Sala Castellani all’interno del Palazzo del Collegio Raffaello\, Piazza della Repubblica 13\, Urbino. Incontri rivolti a studenti di psicologia e medicina\, psicologi e psicoterapeuti\, medici e psichiatri. L’ingresso è gratuito. È richiesta l’iscrizione tramite e-mail all’indirizzo info@litorale.org \n\n\n\n\n\n\n\n\n\n\nScarica il programma (PDF)
URL:https://litorale.org/evento/prego-si-accomodi-4/
ATTACH;FMTTYPE=image/webp:https://litorale.org/wp-content/uploads/2026/04/web-prego-si-accomodi-maggio-2026.webp
END:VEVENT
END:VCALENDAR